BEGIN:VCALENDAR
VERSION:2.0
PRODID:-//hacksw/handcal//NONSGML v1.0//EN
CALSCALE:GREGORIAN
BEGIN:VEVENT
UID:69e7e33ed45bf
DTSTAMP:20260421T205110Z
DESCRIPTION:Ohio Wesleyan University Women's Soccer at NCAC tournament semifinal
SUMMARY:Ohio Wesleyan University Women's Soccer at NCAC tournament semifinal
DTSTART:20241106
DTEND:20241106
END:VEVENT
END:VCALENDAR
