BEGIN:VCALENDAR
VERSION:2.0
PRODID:-//hacksw/handcal//NONSGML v1.0//EN
CALSCALE:GREGORIAN
BEGIN:VEVENT
UID:69e95f0b9eea9
DTSTAMP:20260422T235139Z
DESCRIPTION:[L] Ohio Wesleyan University Women's Soccer at North CentralL 2-3Streaming Video: https://northcentralcardinals.com/watch/?Live=863&type=Live
SUMMARY:Ohio Wesleyan University Women's Soccer at North Central
DTSTART:20240908T170000Z
DTEND:20240908T190000Z
END:VEVENT
END:VCALENDAR
