BEGIN:VCALENDAR
VERSION:2.0
PRODID:-//hacksw/handcal//NONSGML v1.0//EN
CALSCALE:GREGORIAN
BEGIN:VEVENT
UID:69e852c22edf3
DTSTAMP:20260422T044658Z
DESCRIPTION:[W] Ohio Wesleyan University Women's Soccer at Westminster (Pa.)W 3-1Streaming Video: https://www.pacdigitalnetwork.com/westminster/?B=1328546
SUMMARY:Ohio Wesleyan University Women's Soccer at Westminster (Pa.)
DTSTART:20240920T233000Z
DTEND:20240921T013000Z
END:VEVENT
END:VCALENDAR
