BEGIN:VCALENDAR
VERSION:2.0
PRODID:-//hacksw/handcal//NONSGML v1.0//EN
CALSCALE:GREGORIAN
BEGIN:VEVENT
UID:69eba0eea9def
DTSTAMP:20260424T165718Z
DESCRIPTION:[L] Ohio Wesleyan University Women's Soccer at WittenbergL 1-2Streaming Video: https://www.youtube.com/channel/UC5OiQ9Jq6jptNpq_kgLI6gQ https://www.battlingbishops.com/calendar.aspx?game_id=8442&amp\;sport_id=18
SUMMARY:Ohio Wesleyan University Women's Soccer at Wittenberg
DTSTART:20231014T170000Z
DTEND:20231014T190000Z
END:VEVENT
END:VCALENDAR
