BEGIN:VCALENDAR
VERSION:2.0
PRODID:-//hacksw/handcal//NONSGML v1.0//EN
CALSCALE:GREGORIAN
BEGIN:VEVENT
UID:69eb104a6456f
DTSTAMP:20260424T064010Z
DESCRIPTION:[W] Ohio Wesleyan University Women's Soccer at WoosterW 3-2Streaming Video: https://northcoastnetwork.com/wooster/ https://www.battlingbishops.com/calendar.aspx?game_id=8444&amp\;sport_id=18
SUMMARY:Ohio Wesleyan University Women's Soccer at Wooster
DTSTART:20231021T170000Z
DTEND:20231021T190000Z
END:VEVENT
END:VCALENDAR
