BEGIN:VCALENDAR
VERSION:2.0
PRODID:-//hacksw/handcal//NONSGML v1.0//EN
CALSCALE:GREGORIAN
BEGIN:VEVENT
UID:69e9d53aea5ce
DTSTAMP:20260423T081554Z
DESCRIPTION:[W] Ohio Wesleyan University Women's Soccer vs AdrianW 4-0Streaming Video: https://www.northcoastnetwork.com/ohiowesleyan/
SUMMARY:Ohio Wesleyan University Women's Soccer vs Adrian
DTSTART:20240901T200000Z
DTEND:20240901T220000Z
END:VEVENT
END:VCALENDAR
