BEGIN:VCALENDAR
VERSION:2.0
PRODID:-//hacksw/handcal//NONSGML v1.0//EN
CALSCALE:GREGORIAN
BEGIN:VEVENT
UID:69e82b02d8a25
DTSTAMP:20260422T015722Z
DESCRIPTION:[W] Ohio Wesleyan University Women's Soccer vs AlmaW 4-0Streaming Video: https://www.northcoastnetwork.com/ohiowesleyan/
SUMMARY:Ohio Wesleyan University Women's Soccer vs Alma
DTSTART:20240922T170000Z
DTEND:20240922T190000Z
END:VEVENT
END:VCALENDAR
