BEGIN:VCALENDAR
VERSION:2.0
PRODID:-//hacksw/handcal//NONSGML v1.0//EN
CALSCALE:GREGORIAN
BEGIN:VEVENT
UID:69e998285e296
DTSTAMP:20260423T035520Z
DESCRIPTION:[W] Ohio Wesleyan University Women's Soccer vs CapitalW 2-1Streaming Video: https://www.northcoastnetwork.com/ohiowesleyan/
SUMMARY:Ohio Wesleyan University Women's Soccer vs Capital
DTSTART:20240904T230000Z
DTEND:20240905T010000Z
END:VEVENT
END:VCALENDAR
