BEGIN:VCALENDAR
VERSION:2.0
PRODID:-//hacksw/handcal//NONSGML v1.0//EN
CALSCALE:GREGORIAN
BEGIN:VEVENT
UID:69ea8a3f13221
DTSTAMP:20260423T210815Z
DESCRIPTION:[W] Ohio Wesleyan University Women's Soccer vs DenisonW 3-0Streaming Video: https://www.northcoastnetwork.com/ohiowesleyan/ https://www.battlingbishops.com/calendar.aspx?game_id=8446&amp\;sport_id=18
SUMMARY:Ohio Wesleyan University Women's Soccer vs Denison
DTSTART:20231028T200000Z
DTEND:20231028T220000Z
END:VEVENT
END:VCALENDAR
