BEGIN:VCALENDAR
VERSION:2.0
PRODID:-//hacksw/handcal//NONSGML v1.0//EN
CALSCALE:GREGORIAN
BEGIN:VEVENT
UID:69eac230798a2
DTSTAMP:20260424T010656Z
DESCRIPTION:[T] Ohio Wesleyan University Women's Soccer vs DePauwT 1-1Streaming Video: https://www.northcoastnetwork.com/ohiowesleyan/ https://www.battlingbishops.com/calendar.aspx?game_id=8445&amp\;sport_id=18
SUMMARY:Ohio Wesleyan University Women's Soccer vs DePauw
DTSTART:20231025T230000Z
DTEND:20231026T010000Z
END:VEVENT
END:VCALENDAR
