BEGIN:VCALENDAR
VERSION:2.0
PRODID:-//hacksw/handcal//NONSGML v1.0//EN
CALSCALE:GREGORIAN
BEGIN:VEVENT
UID:69ea22f93494e
DTSTAMP:20260423T134737Z
DESCRIPTION:[L] Ohio Wesleyan University Women's Soccer vs DePauwL 0-1Streaming Video: https://www.northcoastnetwork.com/ohiowesleyan/ https://www.battlingbishops.com/calendar.aspx?game_id=8447&amp\;sport_id=18
SUMMARY:Ohio Wesleyan University Women's Soccer vs DePauw
DTSTART:20231102T230000Z
DTEND:20231103T010000Z
END:VEVENT
END:VCALENDAR
