BEGIN:VCALENDAR
VERSION:2.0
PRODID:-//hacksw/handcal//NONSGML v1.0//EN
CALSCALE:GREGORIAN
BEGIN:VEVENT
UID:69e8ddeaf28a4
DTSTAMP:20260422T144042Z
DESCRIPTION:[W] Ohio Wesleyan University Women's Soccer vs John CarrollW 2-0Streaming Video: https://www.northcoastnetwork.com/ohiowesleyan/
SUMMARY:Ohio Wesleyan University Women's Soccer vs John Carroll
DTSTART:20240914T230000Z
DTEND:20240915T010000Z
END:VEVENT
END:VCALENDAR
