BEGIN:VCALENDAR
VERSION:2.0
PRODID:-//hacksw/handcal//NONSGML v1.0//EN
CALSCALE:GREGORIAN
BEGIN:VEVENT
UID:69e91f3831a14
DTSTAMP:20260422T191920Z
DESCRIPTION:[N] Ohio Wesleyan University Women's Soccer vs Kalamazoo canceledStreaming Video: https://www.northcoastnetwork.com/ohiowesleyan/
SUMMARY:Ohio Wesleyan University Women's Soccer vs Kalamazoo
DTSTART:20240911T230000Z
DTEND:20240912T010000Z
END:VEVENT
END:VCALENDAR
