BEGIN:VCALENDAR
VERSION:2.0
PRODID:-//hacksw/handcal//NONSGML v1.0//EN
CALSCALE:GREGORIAN
BEGIN:VEVENT
UID:69eb626c1193e
DTSTAMP:20260424T123036Z
DESCRIPTION:[W] Ohio Wesleyan University Women's Soccer vs KenyonW 1-0Streaming Video: https://www.northcoastnetwork.com/ohiowesleyan/ https://www.battlingbishops.com/calendar.aspx?game_id=8443&amp\;sport_id=18
SUMMARY:Ohio Wesleyan University Women's Soccer vs Kenyon
DTSTART:20231017T230000Z
DTEND:20231018T010000Z
END:VEVENT
END:VCALENDAR
