BEGIN:VCALENDAR
VERSION:2.0
PRODID:-//hacksw/handcal//NONSGML v1.0//EN
CALSCALE:GREGORIAN
BEGIN:VEVENT
UID:69ea0d3eee757
DTSTAMP:20260423T121454Z
DESCRIPTION:[W] Ohio Wesleyan University Women's Soccer vs Mount St. JosephW 1-0Streaming Video: https://www.northcoastnetwork.com/ohiowesleyan/
SUMMARY:Ohio Wesleyan University Women's Soccer vs Mount St. Joseph
DTSTART:20240830T200000Z
DTEND:20240830T220000Z
END:VEVENT
END:VCALENDAR
