BEGIN:VCALENDAR
VERSION:2.0
PRODID:-//hacksw/handcal//NONSGML v1.0//EN
CALSCALE:GREGORIAN
BEGIN:VEVENT
UID:69e9d58c5cf2e
DTSTAMP:20260423T081716Z
DESCRIPTION:Ohio Wesleyan University Women's Soccer vs NCAC tournament championship https://www.battlingbishops.com/calendar.aspx?game_id=8448&amp\;sport_id=18
SUMMARY:Ohio Wesleyan University Women's Soccer vs NCAC tournament championship
DTSTART:20231105T180000Z
DTEND:20231105T200000Z
END:VEVENT
END:VCALENDAR
