BEGIN:VCALENDAR
VERSION:2.0
PRODID:-//hacksw/handcal//NONSGML v1.0//EN
CALSCALE:GREGORIAN
BEGIN:VEVENT
UID:69ecbe92ac989
DTSTAMP:20260425T131602Z
DESCRIPTION:[L] Ohio Wesleyan University Women's Soccer vs North CentralL 2-6 https://www.battlingbishops.com/calendar.aspx?game_id=8439&amp\;sport_id=18
SUMMARY:Ohio Wesleyan University Women's Soccer vs North Central
DTSTART:20230930T170000Z
DTEND:20230930T190000Z
END:VEVENT
END:VCALENDAR
