BEGIN:VCALENDAR
VERSION:2.0
PRODID:-//hacksw/handcal//NONSGML v1.0//EN
CALSCALE:GREGORIAN
BEGIN:VEVENT
UID:69ec261ec9dbb
DTSTAMP:20260425T022534Z
DESCRIPTION:[W] Ohio Wesleyan University Women's Soccer vs OberlinW 3-0Streaming Video: https://www.northcoastnetwork.com/ohiowesleyan/ https://www.battlingbishops.com/calendar.aspx?game_id=8440&amp\;sport_id=18
SUMMARY:Ohio Wesleyan University Women's Soccer vs Oberlin
DTSTART:20231007T210000Z
DTEND:20231007T230000Z
END:VEVENT
END:VCALENDAR
