BEGIN:VCALENDAR
VERSION:2.0
PRODID:-//hacksw/handcal//NONSGML v1.0//EN
CALSCALE:GREGORIAN
BEGIN:VEVENT
UID:69e76818a3e01
DTSTAMP:20260421T120544Z
DESCRIPTION:[L] Ohio Wesleyan University Women's Swimming & Diving at Baldwin WallaceL 100-140
SUMMARY:Ohio Wesleyan University Women's Swimming & Diving at Baldwin Wallace
DTSTART:20241102T170000Z
DTEND:20241102T200000Z
END:VEVENT
END:VCALENDAR
