BEGIN:VCALENDAR
VERSION:2.0
PRODID:-//hacksw/handcal//NONSGML v1.0//EN
CALSCALE:GREGORIAN
BEGIN:VEVENT
UID:69e821b78a270
DTSTAMP:20260422T011743Z
DESCRIPTION:[L] Ohio Wesleyan University Women's Swimming & Diving at KenyonL 190-28Streaming Video: https://www.youtube.com/@KenyonAthletics/streams
SUMMARY:Ohio Wesleyan University Women's Swimming & Diving at Kenyon
DTSTART:20241108T230000Z
DTEND:20241109T020000Z
END:VEVENT
END:VCALENDAR
