BEGIN:VCALENDAR
VERSION:2.0
PRODID:-//hacksw/handcal//NONSGML v1.0//EN
CALSCALE:GREGORIAN
BEGIN:VEVENT
UID:69eab05607d53
DTSTAMP:20260423T235046Z
DESCRIPTION:[N] Ohio Wesleyan University Women's Swimming & Diving at Kenyon not scored
SUMMARY:Ohio Wesleyan University Women's Swimming & Diving at Kenyon
DTSTART:20241213T223000Z
DTEND:20241214T013000Z
END:VEVENT
END:VCALENDAR
