BEGIN:VCALENDAR
VERSION:2.0
PRODID:-//hacksw/handcal//NONSGML v1.0//EN
CALSCALE:GREGORIAN
BEGIN:VEVENT
UID:69eba18e0ae2e
DTSTAMP:20260424T165958Z
DESCRIPTION:[N] Ohio Wesleyan University Women's Swimming & Diving at Kenyon Relays - Diving at 9 a.m. 5th of 5Streaming Video: https://www.youtube.com/watch?v=XPBiW3w-UVc https://www.battlingbishops.com/calendar.aspx?game_id=8533&amp\;sport_id=19
SUMMARY:Ohio Wesleyan University Women's Swimming & Diving at Kenyon Relays - Diving at 9 a.m.
DTSTART:20231014T130000Z
DTEND:20231014T160000Z
END:VEVENT
END:VCALENDAR
