BEGIN:VCALENDAR
VERSION:2.0
PRODID:-//hacksw/handcal//NONSGML v1.0//EN
CALSCALE:GREGORIAN
BEGIN:VEVENT
UID:69eb9f8d6b65d
DTSTAMP:20260424T165125Z
DESCRIPTION:[L] Ohio Wesleyan University Women's Swimming & Diving at OberlinL 82-196Streaming Video: https://oberlinsportsnetwork.com/
SUMMARY:Ohio Wesleyan University Women's Swimming & Diving at Oberlin
DTSTART:20250114T200000Z
DTEND:20250114T230000Z
END:VEVENT
END:VCALENDAR
