BEGIN:VCALENDAR
VERSION:2.0
PRODID:-//hacksw/handcal//NONSGML v1.0//EN
CALSCALE:GREGORIAN
BEGIN:VEVENT
UID:69e95f3a22252
DTSTAMP:20260422T235226Z
DESCRIPTION:[W] Ohio Wesleyan University Women's Swimming & Diving at WittenbergW 112-91Streaming Video: https://www.youtube.com/@tigersportsnetwork1556 https://www.battlingbishops.com/calendar.aspx?game_id=8538&amp\;sport_id=19
SUMMARY:Ohio Wesleyan University Women's Swimming & Diving at Wittenberg
DTSTART:20231111T180000Z
DTEND:20231111T210000Z
END:VEVENT
END:VCALENDAR
