BEGIN:VCALENDAR
VERSION:2.0
PRODID:-//hacksw/handcal//NONSGML v1.0//EN
CALSCALE:GREGORIAN
BEGIN:VEVENT
UID:69e9e77a342fa
DTSTAMP:20260423T093346Z
DESCRIPTION:[L] Ohio Wesleyan University Women's Swimming & Diving vs Baldwin WallaceL 93-137Streaming Video: https://www.northcoastnetwork.com/ohiowesleyan/ https://www.battlingbishops.com/calendar.aspx?game_id=8536&amp\;sport_id=19
SUMMARY:Ohio Wesleyan University Women's Swimming & Diving vs Baldwin Wallace
DTSTART:20231104T170000Z
DTEND:20231104T200000Z
END:VEVENT
END:VCALENDAR
