BEGIN:VCALENDAR
VERSION:2.0
PRODID:-//hacksw/handcal//NONSGML v1.0//EN
CALSCALE:GREGORIAN
BEGIN:VEVENT
UID:69eb13ee8aff1
DTSTAMP:20260424T065542Z
DESCRIPTION:[L] Ohio Wesleyan University Women's Swimming & Diving vs Case ReserveL 22-272Streaming Video: https://www.northcoastnetwork.com/ohiowesleyan/ https://www.battlingbishops.com/calendar.aspx?game_id=8534&amp\;sport_id=19
SUMMARY:Ohio Wesleyan University Women's Swimming & Diving vs Case Reserve
DTSTART:20231021T170000Z
DTEND:20231021T200000Z
END:VEVENT
END:VCALENDAR
