BEGIN:VCALENDAR
VERSION:2.0
PRODID:-//hacksw/handcal//NONSGML v1.0//EN
CALSCALE:GREGORIAN
BEGIN:VEVENT
UID:69e8b6af626ca
DTSTAMP:20260422T115319Z
DESCRIPTION:[N] Ohio Wesleyan University Women's Swimming & Diving vs Corbiere-Merion Invitational first day https://www.battlingbishops.com/calendar.aspx?game_id=8539&amp\;sport_id=19
SUMMARY:Ohio Wesleyan University Women's Swimming & Diving vs Corbiere-Merion Invitational
DTSTART:20231118T150000Z
DTEND:20231118T180000Z
END:VEVENT
END:VCALENDAR
