BEGIN:VCALENDAR
VERSION:2.0
PRODID:-//hacksw/handcal//NONSGML v1.0//EN
CALSCALE:GREGORIAN
BEGIN:VEVENT
UID:69e8a01d027a8
DTSTAMP:20260422T101701Z
DESCRIPTION:[N] Ohio Wesleyan University Women's Swimming & Diving vs Corbiere-Merion Invitational 3rd of 6 https://www.battlingbishops.com/calendar.aspx?game_id=8540&amp\;sport_id=19
SUMMARY:Ohio Wesleyan University Women's Swimming & Diving vs Corbiere-Merion Invitational
DTSTART:20231119T150000Z
DTEND:20231119T180000Z
END:VEVENT
END:VCALENDAR
