BEGIN:VCALENDAR
VERSION:2.0
PRODID:-//hacksw/handcal//NONSGML v1.0//EN
CALSCALE:GREGORIAN
BEGIN:VEVENT
UID:69e9c03ac771b
DTSTAMP:20260423T064618Z
DESCRIPTION:[N] Ohio Wesleyan University Women's Swimming & Diving vs Corbiere-Merion Invitational 2nd of 6
SUMMARY:Ohio Wesleyan University Women's Swimming & Diving vs Corbiere-Merion Invitational
DTSTART:20241124T150000Z
DTEND:20241124T180000Z
END:VEVENT
END:VCALENDAR
