BEGIN:VCALENDAR
VERSION:2.0
PRODID:-//hacksw/handcal//NONSGML v1.0//EN
CALSCALE:GREGORIAN
BEGIN:VEVENT
UID:69e9e7a469e5a
DTSTAMP:20260423T093428Z
DESCRIPTION:[W] Ohio Wesleyan University Women's Swimming & Diving vs HeidelbergW 142-47Streaming Video: https://www.northcoastnetwork.com/ohiowesleyan/ https://www.battlingbishops.com/calendar.aspx?game_id=8537&amp\;sport_id=19
SUMMARY:Ohio Wesleyan University Women's Swimming & Diving vs Heidelberg
DTSTART:20231104T170000Z
DTEND:20231104T200000Z
END:VEVENT
END:VCALENDAR
