BEGIN:VCALENDAR
VERSION:2.0
PRODID:-//hacksw/handcal//NONSGML v1.0//EN
CALSCALE:GREGORIAN
BEGIN:VEVENT
UID:69ea0e4891c65
DTSTAMP:20260423T121920Z
DESCRIPTION:[L] Ohio Wesleyan University Women's Swimming & Diving vs Kenyon - Swimming at Ohio Wesleyan\, Diving at KenyonL 36-218 https://www.battlingbishops.com/calendar.aspx?game_id=8535&amp\;sport_id=19
SUMMARY:Ohio Wesleyan University Women's Swimming & Diving vs Kenyon - Swimming at Ohio Wesleyan\, Diving at Kenyon
DTSTART:20231103T220000Z
DTEND:20231104T010000Z
END:VEVENT
END:VCALENDAR
