BEGIN:VCALENDAR
VERSION:2.0
PRODID:-//hacksw/handcal//NONSGML v1.0//EN
CALSCALE:GREGORIAN
BEGIN:VEVENT
UID:69ebe32bd2bf9
DTSTAMP:20260424T213955Z
DESCRIPTION:[L] Ohio Wesleyan University Women's Swimming & Diving vs Ohio NorthernL 105-180Streaming Video: https://boxcast.tv/channel/b1skosljmdyycgsgsdlt
SUMMARY:Ohio Wesleyan University Women's Swimming & Diving vs Ohio Northern
DTSTART:20250117T230000Z
DTEND:20250118T020000Z
END:VEVENT
END:VCALENDAR
