BEGIN:VCALENDAR
VERSION:2.0
PRODID:-//hacksw/handcal//NONSGML v1.0//EN
CALSCALE:GREGORIAN
BEGIN:VEVENT
UID:69e908f93d1a5
DTSTAMP:20260422T174425Z
DESCRIPTION:[L] Ohio Wesleyan University Women's Swimming & Diving vs WittenbergL 114-117
SUMMARY:Ohio Wesleyan University Women's Swimming & Diving vs Wittenberg
DTSTART:20241116T180000Z
DTEND:20241116T210000Z
END:VEVENT
END:VCALENDAR
