BEGIN:VCALENDAR
VERSION:2.0
PRODID:-//hacksw/handcal//NONSGML v1.0//EN
CALSCALE:GREGORIAN
BEGIN:VEVENT
UID:69e8c9be65fe6
DTSTAMP:20260422T131438Z
DESCRIPTION:[N] Ohio Wesleyan University Women's Tennis at Adrian canceled
SUMMARY:Ohio Wesleyan University Women's Tennis at Adrian
DTSTART:20240915T160000Z
DTEND:20240915T190000Z
END:VEVENT
END:VCALENDAR
