BEGIN:VCALENDAR
VERSION:2.0
PRODID:-//hacksw/handcal//NONSGML v1.0//EN
CALSCALE:GREGORIAN
BEGIN:VEVENT
UID:69e796cd3d3f9
DTSTAMP:20260421T152501Z
DESCRIPTION:Ohio Wesleyan University Women's Tennis at ITA Central Region Championship
SUMMARY:Ohio Wesleyan University Women's Tennis at ITA Central Region Championship
DTSTART:20240927
DTEND:20240927
END:VEVENT
END:VCALENDAR
