BEGIN:VCALENDAR
VERSION:2.0
PRODID:-//hacksw/handcal//NONSGML v1.0//EN
CALSCALE:GREGORIAN
BEGIN:VEVENT
UID:69e95f39e9ceb
DTSTAMP:20260422T235225Z
DESCRIPTION:[W] Ohio Wesleyan University Women's Tennis at Mount UnionW 4-3
SUMMARY:Ohio Wesleyan University Women's Tennis at Mount Union
DTSTART:20240908T170000Z
DTEND:20240908T200000Z
END:VEVENT
END:VCALENDAR
