BEGIN:VCALENDAR
VERSION:2.0
PRODID:-//hacksw/handcal//NONSGML v1.0//EN
CALSCALE:GREGORIAN
BEGIN:VEVENT
UID:69ed0d0707365
DTSTAMP:20260425T185047Z
DESCRIPTION:Ohio Wesleyan University Women's Tennis vs NCAC tournamentStreaming Video: https://northcoastnetwork.com/wooster/ https://www.battlingbishops.com/calendar.aspx?game_id=8960&amp\;sport_id=20
SUMMARY:Ohio Wesleyan University Women's Tennis vs NCAC tournament
DTSTART:20240504T160000Z
DTEND:20240504T190000Z
END:VEVENT
END:VCALENDAR
