BEGIN:VCALENDAR
VERSION:2.0
PRODID:-//hacksw/handcal//NONSGML v1.0//EN
CALSCALE:GREGORIAN
BEGIN:VEVENT
UID:69ecf8d4a5825
DTSTAMP:20260425T172436Z
DESCRIPTION:Ohio Wesleyan University Women's Tennis vs NCAC tournamentStreaming Video: https://northcoastnetwork.com/wooster/ https://www.battlingbishops.com/calendar.aspx?game_id=8961&amp\;sport_id=20
SUMMARY:Ohio Wesleyan University Women's Tennis vs NCAC tournament
DTSTART:20240505T160000Z
DTEND:20240505T190000Z
END:VEVENT
END:VCALENDAR
