BEGIN:VCALENDAR
VERSION:2.0
PRODID:-//hacksw/handcal//NONSGML v1.0//EN
CALSCALE:GREGORIAN
BEGIN:VEVENT
UID:69ed20e8bf630
DTSTAMP:20260425T201536Z
DESCRIPTION:[L] Ohio Wesleyan University Women's Tennis vs WittenbergL 0-5 https://www.battlingbishops.com/calendar.aspx?game_id=8828&amp\;sport_id=20
SUMMARY:Ohio Wesleyan University Women's Tennis vs Wittenberg
DTSTART:20240503T173000Z
DTEND:20240503T203000Z
END:VEVENT
END:VCALENDAR
