BEGIN:VCALENDAR
VERSION:2.0
PRODID:-//hacksw/handcal//NONSGML v1.0//EN
CALSCALE:GREGORIAN
BEGIN:VEVENT
UID:69ea4cc1bba06
DTSTAMP:20260423T164553Z
DESCRIPTION:[N] Ohio Wesleyan University Women's Track & Field at Akron Haynes Lancaster Open not scored
SUMMARY:Ohio Wesleyan University Women's Track & Field at Akron Haynes Lancaster Open
DTSTART:20241206T210000Z
DTEND:20241207T000000Z
END:VEVENT
END:VCALENDAR
