BEGIN:VCALENDAR
VERSION:2.0
PRODID:-//hacksw/handcal//NONSGML v1.0//EN
CALSCALE:GREGORIAN
BEGIN:VEVENT
UID:69ecfbd01b3be
DTSTAMP:20260425T173720Z
DESCRIPTION:[N] Ohio Wesleyan University Women's Track & Field at Dr. Taraschke Team Challenge 4th of 5
SUMMARY:Ohio Wesleyan University Women's Track & Field at Dr. Taraschke Team Challenge
DTSTART:20250201T150000Z
DTEND:20250201T180000Z
END:VEVENT
END:VCALENDAR
