BEGIN:VCALENDAR
VERSION:2.0
PRODID:-//hacksw/handcal//NONSGML v1.0//EN
CALSCALE:GREGORIAN
BEGIN:VEVENT
UID:69ed6845b77d3
DTSTAMP:20260426T012005Z
DESCRIPTION:[N] Ohio Wesleyan University Women's Track & Field at Jud Logan Light Giver Open first dayStreaming Video: https://greatmidwestdigitalnetwork.com/ashlanduniversity/
SUMMARY:Ohio Wesleyan University Women's Track & Field at Jud Logan Light Giver Open
DTSTART:20250207T153000Z
DTEND:20250207T183000Z
END:VEVENT
END:VCALENDAR
