BEGIN:VCALENDAR
VERSION:2.0
PRODID:-//hacksw/handcal//NONSGML v1.0//EN
CALSCALE:GREGORIAN
BEGIN:VEVENT
UID:69ed80b11cb9a
DTSTAMP:20260426T030417Z
DESCRIPTION:[N] Ohio Wesleyan University Women's Track & Field at Jud Logan Light Giver Open not scoredStreaming Video: https://greatmidwestdigitalnetwork.com/ashlanduniversity/
SUMMARY:Ohio Wesleyan University Women's Track & Field at Jud Logan Light Giver Open
DTSTART:20250208T142000Z
DTEND:20250208T172000Z
END:VEVENT
END:VCALENDAR
