BEGIN:VCALENDAR
VERSION:2.0
PRODID:-//hacksw/handcal//NONSGML v1.0//EN
CALSCALE:GREGORIAN
BEGIN:VEVENT
UID:69ebf8e6468f9
DTSTAMP:20260424T231238Z
DESCRIPTION:Ohio Wesleyan University Women's Track & Field at NCAA Division III championship https://www.battlingbishops.com/calendar.aspx?game_id=8657&amp\;sport_id=21
SUMMARY:Ohio Wesleyan University Women's Track & Field at NCAA Division III championship
DTSTART:20240524
DTEND:20240524
END:VEVENT
END:VCALENDAR
