BEGIN:VCALENDAR
VERSION:2.0
PRODID:-//hacksw/handcal//NONSGML v1.0//EN
CALSCALE:GREGORIAN
BEGIN:VEVENT
UID:69ebe3417bd9e
DTSTAMP:20260424T214017Z
DESCRIPTION:Ohio Wesleyan University Women's Track & Field at NCAA Division III championship https://www.battlingbishops.com/calendar.aspx?game_id=8658&amp\;sport_id=21
SUMMARY:Ohio Wesleyan University Women's Track & Field at NCAA Division III championship
DTSTART:20240525
DTEND:20240525
END:VEVENT
END:VCALENDAR
