BEGIN:VCALENDAR
VERSION:2.0
PRODID:-//hacksw/handcal//NONSGML v1.0//EN
CALSCALE:GREGORIAN
BEGIN:VEVENT
UID:69ed0a52d276c
DTSTAMP:20260425T183914Z
DESCRIPTION:[N] Ohio Wesleyan University Women's Track & Field at NCAC championship 3rd of 8Streaming Video: https://www.northcoastnetwork.com/denison/ https://www.battlingbishops.com/calendar.aspx?game_id=8651&amp\;sport_id=21
SUMMARY:Ohio Wesleyan University Women's Track & Field at NCAC championship
DTSTART:20240504T140000Z
DTEND:20240504T170000Z
END:VEVENT
END:VCALENDAR
