BEGIN:VCALENDAR
VERSION:2.0
PRODID:-//hacksw/handcal//NONSGML v1.0//EN
CALSCALE:GREGORIAN
BEGIN:VEVENT
UID:69ecfc193e91b
DTSTAMP:20260425T173833Z
DESCRIPTION:[N] Ohio Wesleyan University Women's Track & Field at Steemer Showcase not scoredStreaming Video: https://tigersportsnetwork.com/
SUMMARY:Ohio Wesleyan University Women's Track & Field at Steemer Showcase
DTSTART:20250201T160000Z
DTEND:20250201T190000Z
END:VEVENT
END:VCALENDAR
