BEGIN:VCALENDAR
VERSION:2.0
PRODID:-//hacksw/handcal//NONSGML v1.0//EN
CALSCALE:GREGORIAN
BEGIN:VEVENT
UID:69e81493f17c1
DTSTAMP:20260422T002139Z
DESCRIPTION:[N] Ohio Wesleyan University Women's Track & Field at Tiger Opener not scoredStreaming Video: https://www.youtube.com/@tigersportsnetwork1556 https://www.battlingbishops.com/calendar.aspx?game_id=8621&amp\;sport_id=21
SUMMARY:Ohio Wesleyan University Women's Track & Field at Tiger Opener
DTSTART:20231202T160000Z
DTEND:20231202T190000Z
END:VEVENT
END:VCALENDAR
