BEGIN:VCALENDAR
VERSION:2.0
PRODID:-//hacksw/handcal//NONSGML v1.0//EN
CALSCALE:GREGORIAN
BEGIN:VEVENT
UID:69ebf8e6c08b6
DTSTAMP:20260424T231238Z
DESCRIPTION:[N] Ohio Wesleyan University Women's Track & Field at Wooster Invitational 2nd of 6Streaming Video: https://northcoastnetwork.com/wooster/
SUMMARY:Ohio Wesleyan University Women's Track & Field at Wooster Invitational
DTSTART:20250118T170000Z
DTEND:20250118T200000Z
END:VEVENT
END:VCALENDAR
