BEGIN:VCALENDAR
VERSION:2.0
PRODID:-//hacksw/handcal//NONSGML v1.0//EN
CALSCALE:GREGORIAN
BEGIN:VEVENT
UID:69e9e7808dd73
DTSTAMP:20260423T093352Z
DESCRIPTION:[N] Ohio Wesleyan University Wrestling at Adrian Invitational 6th of 9 https://www.battlingbishops.com/calendar.aspx?game_id=8712&amp\;sport_id=23
SUMMARY:Ohio Wesleyan University Wrestling at Adrian Invitational
DTSTART:20231104T140000Z
DTEND:20231104T170000Z
END:VEVENT
END:VCALENDAR
